BEGIN:VCALENDAR
VERSION:2.0
PRODID:-//Maritime Professionals - ECPv6.15.20//NONSGML v1.0//EN
CALSCALE:GREGORIAN
METHOD:PUBLISH
X-WR-CALNAME:Maritime Professionals
X-ORIGINAL-URL:https://maritime-professionals.com
X-WR-CALDESC:Events for Maritime Professionals
REFRESH-INTERVAL;VALUE=DURATION:PT1H
X-Robots-Tag:noindex
X-PUBLISHED-TTL:PT1H
BEGIN:VTIMEZONE
TZID:UTC
BEGIN:STANDARD
TZOFFSETFROM:+0000
TZOFFSETTO:+0000
TZNAME:UTC
DTSTART:20200101T000000
END:STANDARD
END:VTIMEZONE
BEGIN:VEVENT
DTSTART;TZID=UTC:20251104T080000
DTEND;TZID=UTC:20251107T200000
DTSTAMP:20260419T165234
CREATED:20250324T134004Z
LAST-MODIFIED:20250324T135059Z
UID:10000258-1762243200-1762545600@maritime-professionals.com
SUMMARY:Europort 2025
DESCRIPTION:  \nEuroport\, organized in the world port city of Rotterdam\, serves as the premier international maritime event for cutting-edge technology and complex shipbuilding. In 2023\, the event attracted 24\,470 professionals from 100 countries and featured 1\,051 exhibitors\, making it one of the world’s largest maritime B2B platforms for networking and knowledge exchange. \nWith over 80 years of history\, we remain committed to providing a platform where maritime professionals from around the globe can connect\, collaborate\, and innovate. \nEuroport covers all aspects of the maritime industry\, with a particular emphasis on high-tech vessels. The exhibition promises to be a true display of the latest advancements in maritime technology.
URL:https://maritime-professionals.com/event/europort-2025/
LOCATION:Rotterdam Ahoy\, Ahoyweg 10\, Rotterdam\, 3084 BA\, Netherlands
ATTACH;FMTTYPE=image/jpeg:https://maritime-professionals.com/wp-content/uploads/2025/03/europort-2025-banner-300x250-2.jpg
ORGANIZER;CN="Rotterdam Ahoy":MAILTO:info@europort.nl
END:VEVENT
BEGIN:VEVENT
DTSTART;TZID=UTC:20240521T080000
DTEND;TZID=UTC:20240523T170000
DTSTAMP:20260419T165234
CREATED:20240510T135751Z
LAST-MODIFIED:20240510T140055Z
UID:10000228-1716278400-1716483600@maritime-professionals.com
SUMMARY:Breakbulk Europe
DESCRIPTION:  \nMEET THE WORLD AT BREAKBULK EUROPE FOR NEW PROJECT CARGO BUSINESS \nWe’re counting down the days now until 21-23 May 2024 where we’ll once again be uniting the project cargo and breakbulk industry. \nBringing together over 11\,000 attendees\, Breakbulk Europe provides the ultimate networking platform to grow your connections\, generate new business and strengthen key existing relationships. Join the industry decision makers in Rotterdam to drive the connections and innovation that support the completion of global projects. \nNetworking Events \nJoin our networking and social activities including the Breakbulk Boulevard Party\, Women in Breakbulk Breakfast\, Rotterdam Boat Tour and so much more. Keep up to date with project opportunities\, stay ahead of the curve with industry trends and join us at Breakbulk Europe 2024\, the networking opportunities are truly endless. https://europe.breakbulk.com/page/networking-events \nSponsor or exhibit \nWith over 11\,000 visitors\, including industry professionals and key decision makers in attendance\, this is the perfect place to showcase your brand and new products. Sponsorship and exhibitor stands are now available\, speak to the team today about more information. https://europe.breakbulk.com/page/exhibitor-form \nEvent Agenda \nThe Breakbulk Europe 2024 Main Stage and Futures Stage agenda is now live. Hours of inspiring content that promises a deep dive of thought-provoking discussions\, groundbreaking strategies\, and game-changing solutions. https://europe.breakbulk.com/agendas/event-agenda \n  \nJoin Breakbulk Europe\n 
URL:https://maritime-professionals.com/event/breakbulk-europe/
LOCATION:Rotterdam Ahoy\, Ahoyweg 10\, Rotterdam\, 3084 BA\, Netherlands
ATTACH;FMTTYPE=image/png:https://maritime-professionals.com/wp-content/uploads/2024/05/BreakBulk-europe-2024-300x250-1.png
END:VEVENT
BEGIN:VEVENT
DTSTART;TZID=UTC:20231109T170000
DTEND;TZID=UTC:20231109T180000
DTSTAMP:20260419T165234
CREATED:20231103T150824Z
LAST-MODIFIED:20231103T150824Z
UID:10000210-1699549200-1699552800@maritime-professionals.com
SUMMARY:The Rising Stars Award Show
DESCRIPTION:Since the 1st edition of the Rising Stars\, MARPRO has been on an incredible journey\, expanding the project to include a 2nd edition featuring 21 outstanding Rising Stars. The start-up project has gained signification traction\, attracting attention from the media\, relevant visitors\, and organisations. \nWe’re thrilled to share that we’ve taken the project to new heights with the creation of The Rising Stars Award Show. This initiative is a concrete step towards elevating the Rising Stars Pavilion and fostering even greater ambition among our start-ups. \nWithout giving away too much\, our esteemed consisting of industry experts\, will be awarding exceptional start-ups in four distinguished categories: \n\nStrongest Market Potential given by Raymond Siliakus\, Europort.\nMost Promising Digital Start-Up given by Christel Pullens\, Port XL.\nBest Green Start-Up\, given by Jakob le Fevre\, MARPRO.\nRising Star of the Year 2023\, given by Florian Visser\, Hansa.\n\nWe are proud to announce that HANSA\, our esteemed award partner\, will provide a prize in the form of a media package for HANSA media worth 10\,000 EUR for the winner of the Rising Stars of the year 2023. \n\n\n17:00pm Welcome & Drinks\n17:15pm Opening speak\n17:20pm Award Ceremony\n18:00pm Light refreshments & Networking\n\n\nWe invite you to extend this invitation to your team\, colleagues\, partners\, and media contacts to enhance the event’s visibility and celebrate the achievements of these Rising Stars. Your participation is highly valued. \nYou can register for free in advance here. \nFor more information about the Rising Stars Pavilion\, see here.
URL:https://maritime-professionals.com/event/the-rising-stars-award-show/
LOCATION:Rotterdam Ahoy\, Ahoyweg 10\, Rotterdam\, 3084 BA\, Netherlands
ATTACH;FMTTYPE=image/png:https://maritime-professionals.com/wp-content/uploads/2023/11/Award-Show-Banner-300-x-250.png
ORGANIZER;CN="MARPRO":MAILTO:info@marpro.dk
END:VEVENT
BEGIN:VEVENT
DTSTART;TZID=UTC:20231107T100000
DTEND;TZID=UTC:20231110T180000
DTSTAMP:20260419T165234
CREATED:20230127T184727Z
LAST-MODIFIED:20230523T145719Z
UID:10000198-1699351200-1699639200@maritime-professionals.com
SUMMARY:Rising Stars 2023
DESCRIPTION:  \nThe 1st edition of the Rising Stars was established in 2021 in the 40th edition of Europort. Europort is\, beyond question\, one of the most important international shipping and maritime events in the world. A key event known as the international maritime meeting place for innovative technology and complex shipbuilding\, organized in the world port city of Rotterdam. \nVisited by an average of 25\,000 professionals and 1\,040 exhibiting companies\, Europort becomes the perfect playground where maritime professionals can get together to connect\, cooperate and join forces.’ \nInnovation is one of the main topics of the exhibition. Located in the heart of the exhibition\, Europort offers an area fully dedicated to young companies that can present smarter\, innovative\, and sharper solutions. \nMARPRO is behind the Rising Stars concept and collaborates with Europort to create the Rising Stars Pavilion for promising\, forward-thinking and next-gen innovative maritime start-ups. \nIf you are a front runner in the maritime industry\, we invite you to showcase your new insights efficiently and cost-effectively in the highly visible Rising Stars Pavilion 2023 in the Europort exhibition. \nBesides having a fair chance to showcase your solutions to a large audience at an affordable price\, you become part of a joint pavilion with a strong visual identity. As a pavilion we stand together as together we attract more people\, we can share contacts\, knowledge\, and experience. \nThe Rising Stars pavilion will be hosting a total of 22 start-up units\, and each unit will enjoy a complete package consisting of a variety of services which will ease your participation. \nRead about the Rising Stars HERE. \nDownload the Rising Stars Brochure HERE. \n  \nGet a sense of the Rising Stars 2021
URL:https://maritime-professionals.com/event/rising-stars-2023/
LOCATION:Rotterdam Ahoy\, Ahoyweg 10\, Rotterdam\, 3084 BA\, Netherlands
ATTACH;FMTTYPE=image/png:https://maritime-professionals.com/wp-content/uploads/2023/01/RS-MP-Banner-300-x-250.png
ORGANIZER;CN="Rotterdam Ahoy":MAILTO:info@europort.nl
END:VEVENT
BEGIN:VEVENT
DTSTART;TZID=UTC:20231107T100000
DTEND;TZID=UTC:20231110T180000
DTSTAMP:20260419T165234
CREATED:20230127T150812Z
LAST-MODIFIED:20230127T151658Z
UID:10000197-1699351200-1699639200@maritime-professionals.com
SUMMARY:Europort 2023
DESCRIPTION:  \nEuroport\, organized in the world port city of Rotterdam\, is the international maritime meeting place for innovative technology and complex shipbuilding. \nEuroport has a strong focus on ‘high-tech’ ships such as dredging vessels\, naval vessels\, workboats\, inland navigation vessels\, offshore support vessels and super yachts. \nWith 26\,000 professional visitors and 1\,040 exhibiting companies Europort belongs to the world’s largest maritime meeting & knowledge sharing B2B platforms. \nWe invite you to be part of the journey of the maritime transition; to explore the power of technology and transparency. We invite you to engineer\, build and maintain sustainable (relation)ships. TOGETHER\, TODAY\, TOMORROW. \nIn the past decades\, Europort has grown into one of the world’s largest maritime B2B knowledge and meeting places. In 2021 Europort celebrated its 40th edition. \nEuroport 2021 was a very special edition. During COVID times it was one of the few in-person events and as such emphasized the value of face-to-face meetings. \nThese Facts & Figures summarize the visitors and exhibitors statistics and results. Moreover it demonstrates Europort’s essential role to connect\, cooperate and innovate. See for yourself why you should not miss out next time in one of the world’s leading maritime meeting places. \n\n40\,000m2 EXHIBITION SPACE\n7 EXHIBITION HALLS\n11 COUNTRY PAVILLIONS\n785 EXHIBITORS\n93 % CONSIDER RETURNING\n2000+ CONFERENCE DELEGATES\n19\,095 VISITORS\n96% CONSIDER RETURNING\n\nDiscover the 2023 brochure \n \nFor more maritime events\, click here.
URL:https://maritime-professionals.com/event/europort-2023/
LOCATION:Rotterdam Ahoy\, Ahoyweg 10\, Rotterdam\, 3084 BA\, Netherlands
ATTACH;FMTTYPE=image/jpeg:https://maritime-professionals.com/wp-content/uploads/2023/01/europort-2023-banner-300x250-1.jpg
ORGANIZER;CN="Rotterdam Ahoy":MAILTO:info@europort.nl
END:VEVENT
BEGIN:VEVENT
DTSTART;TZID=UTC:20211102T100000
DTEND;TZID=UTC:20211105T180000
DTSTAMP:20260419T165234
CREATED:20210927T112731Z
LAST-MODIFIED:20210927T112802Z
UID:10000162-1635847200-1636135200@maritime-professionals.com
SUMMARY:Danish Pavilion 2021
DESCRIPTION:  \nSince many decades Europort has been the exhibition and meeting place where the international maritime industry gets together to connect\, cooperate\, and innovate. Now\, 80 years in the process\, the need to meet face-to-face may be stronger than ever. We are convinced that\, in this digital era\, personal encounters are still indispensable to our industry. \nMARPRO is proud to announce the close cooperation with EUROPORT this year. MARPRO is the official representative for EUROPORT in Denmark and Sweden for general participation. In addition\, we will organize a Rising Star Pavilion for Start-ups and a Danish National Pavilion. \n\n		\n			\n				\nMeet the Danish Pavilion at HALL 4: \n\nMarineShaft\nGlobal Boiler \nOrskov Yard\nNorisol\nScanel \nHytek \nCralog\nAPI Marine
URL:https://maritime-professionals.com/event/danish-pavilion-2021/
LOCATION:Rotterdam Ahoy\, Ahoyweg 10\, Rotterdam\, 3084 BA\, Netherlands
ATTACH;FMTTYPE=image/jpeg:https://maritime-professionals.com/wp-content/uploads/2021/09/Europort-Banner-300-x-250.jpg
END:VEVENT
BEGIN:VEVENT
DTSTART;TZID=UTC:20211102T100000
DTEND;TZID=UTC:20211105T180000
DTSTAMP:20260419T165234
CREATED:20210922T195450Z
LAST-MODIFIED:20210924T144625Z
UID:10000161-1635847200-1636135200@maritime-professionals.com
SUMMARY:Rising Stars Pavilion 2021
DESCRIPTION:EUROPORT and MARPRO have teamed up to present a new concept for maritime start-up companies during the upcoming exhibition from Nov. 2-5\, 2021\, in Rotterdam. \nThe Rising Stars Pavilion will be an area\, where the stage is fully reserved for promising\, forward-thinkers maritime start-ups and next-gen innovators\, where they can demonstrate how they contribute to a smarter\, cleaner or/safer maritime future. \nIn cooperation with Europort\, MARPRO has selected 13 Rising Stars amongst 70 maritime companies\, to present their smart\, forward-thinking and sustainable solutions at the Rising Stars Pavilion. \nDo you want to meet them? Save the date\, and see you at HALL 4.  \n\n		\n			\n				\nMeet our extraordinary Rising Stars 2021:\n\nAmsterdam Shipyards \nBlue Atlas Robotics\nCertscanner \nDacoma \nDanCompliance \nGBMS \nMESH Online\nMiWire\nPolaris Media \nSeamaster\nSHM Next \nTerzago Robotics \nUnafix\n\n\n			\n		\n	\n  \n  \n  \n 
URL:https://maritime-professionals.com/event/rising-stars-pavilion-2021/
LOCATION:Rotterdam Ahoy\, Ahoyweg 10\, Rotterdam\, 3084 BA\, Netherlands
ATTACH;FMTTYPE=image/jpeg:https://maritime-professionals.com/wp-content/uploads/2021/09/Banner-event-Rising-Stars-300-x-2501-.jpg
END:VEVENT
BEGIN:VEVENT
DTSTART;TZID=UTC:20211102T100000
DTEND;TZID=UTC:20211105T170000
DTSTAMP:20260419T165234
CREATED:20210316T162623Z
LAST-MODIFIED:20210316T162959Z
UID:10000156-1635847200-1636131600@maritime-professionals.com
SUMMARY:Europort 2021
DESCRIPTION:  \nSince many decades Europort has been the exhibition and meeting place where the international maritime industry gets together to connect\, cooperate and innovate. Now\, 80 years in the process\, the need to meet face-to-face may be stronger than ever. We are convinced that\, in this digital era\, personal encounters are indispensable to our industry. Therefore Europort remains dedicated to offer the right platform\, driven by our key values: \n  \nCraftmanship & Entrepreneurship \nOn a foundation of years of experience in a country that is closely connected to water\, shipbuilding and engineering is in the DNA of Europort. We believe craftmanship and entrepreneurship are essential to achieve the most innovative and durable results. At Europort we are proud to offer you both. It is the place to showcase special purpose ships and high-tech solutions. Europort offers a stage where you can meet the right people of maritime companies from all over the world and across industries. \n  \nThought Leadership & Ownership \nTaking the lead in innovation and charting the path to the future is one of Europort’s primary ambitions. By exploring innovative and digital solutions that lead to a sustainable future\, we can discover the power of technology together. That’s why we dare ship owners and cross-industry pioneers to take the stage and share their vision on the road ahead of us. Forward-thinking and relevant themes will be addressed\, where you can take advantage of. Think smarter\, cleaner\, safer and more efficient assets. \n  \nPartnership & Friendship \nIn order to maintain professional partnerships\, achieve goals and maximise your ROI\, it’s important to meet people in real life. That’s why Europort 2021 goes beyond just another network opportunity. At Europort we facilitate an inspiring environment to engage with industry peers and create new business opportunities. We make sure you meet the right people\, with safety and health being our top priority.
URL:https://maritime-professionals.com/event/europort/
LOCATION:Rotterdam Ahoy\, Ahoyweg 10\, Rotterdam\, 3084 BA\, Netherlands
ATTACH;FMTTYPE=image/jpeg:https://maritime-professionals.com/wp-content/uploads/2021/03/europort-banner-300x250-2021.jpg
ORGANIZER;CN="Rotterdam Ahoy":MAILTO:info@europort.nl
END:VEVENT
END:VCALENDAR