BEGIN:VCALENDAR
VERSION:2.0
PRODID:-//Maritime Professionals - ECPv6.15.20//NONSGML v1.0//EN
CALSCALE:GREGORIAN
METHOD:PUBLISH
X-ORIGINAL-URL:https://maritime-professionals.com
X-WR-CALDESC:Events for Maritime Professionals
REFRESH-INTERVAL;VALUE=DURATION:PT1H
X-Robots-Tag:noindex
X-PUBLISHED-TTL:PT1H
BEGIN:VTIMEZONE
TZID:UTC
BEGIN:STANDARD
TZOFFSETFROM:+0000
TZOFFSETTO:+0000
TZNAME:UTC
DTSTART:20210101T000000
END:STANDARD
END:VTIMEZONE
BEGIN:VEVENT
DTSTART;VALUE=DATE:20221026
DTEND;VALUE=DATE:20221029
DTSTAMP:20260425T161251
CREATED:20221010T134809Z
LAST-MODIFIED:20221010T135002Z
UID:10000185-1666742400-1667001599@maritime-professionals.com
SUMMARY:WISTA INTERNATIONAL 2022 CONFERENCE
DESCRIPTION:  \nThe #WISTAInternational AGM and Conference will take place in the beautiful city of Geneva\, Switzerland from 26-28 October 2022\, at the iconic Hotel President Wilson\, on the shore of Lake Geneva. \nThe event will consist of a major conference under the title Collaboration for Sustainability – Cross-Industry Solutions for the Future. There will also be a selection of other exciting events\, including a reception and gala dinner\, and cultural and sightseeing tours around Geneva. \nFor more information: https://www.petrospot.com/events/wista-2022 \n  \nFor the entire event plan\, click here.
URL:https://maritime-professionals.com/event/wista-international-2022-conference/
LOCATION:Hotel President Wilson\, Switzerland
ATTACH;FMTTYPE=image/jpeg:https://maritime-professionals.com/wp-content/uploads/2022/10/WISTA-300-x-250.jpg
END:VEVENT
END:VCALENDAR