BEGIN:VCALENDAR
VERSION:2.0
PRODID:-//Maritime Professionals - ECPv6.15.20//NONSGML v1.0//EN
CALSCALE:GREGORIAN
METHOD:PUBLISH
X-ORIGINAL-URL:https://maritime-professionals.com
X-WR-CALDESC:Events for Maritime Professionals
REFRESH-INTERVAL;VALUE=DURATION:PT1H
X-Robots-Tag:noindex
X-PUBLISHED-TTL:PT1H
BEGIN:VTIMEZONE
TZID:UTC
BEGIN:STANDARD
TZOFFSETFROM:+0000
TZOFFSETTO:+0000
TZNAME:UTC
DTSTART:20220101T000000
END:STANDARD
END:VTIMEZONE
BEGIN:VEVENT
DTSTART;TZID=UTC:20230328T100000
DTEND;TZID=UTC:20230328T170000
DTSTAMP:20260425T150647
CREATED:20230302T143230Z
LAST-MODIFIED:20230302T143327Z
UID:10000201-1679997600-1680022800@maritime-professionals.com
SUMMARY:Maritime Innovation Platform 2023
DESCRIPTION:  \nWhich innovations renew the Dutch maritime sector? – Maritime Innovation Platform 2023  \nHundreds of maritime professionals\, an extensive conference programme and leading companies at the Innovation Area. Promising maritime innovations are in the spotlight at Maritime Innovation Platform on 28 March. \nWhat are the large innovations in the Dutch maritime sector? \nMaritime Innovation Platform is about innovations with which the leading Dutch maritime industry is tackling the sector’s major challenges. These are the main topics of the programme: \n\nLow water\, emission-free sailing\, shortage of manpower: what will the inland vessel look like that meets these challenges?\nHow will shipping contribute to cutting CO2 emissions in half by 2030?\nThe North Sea is becoming increasingly crowded. How do we keep it safe and navigable?\n\nWill you be there?\n  \nFor more maritime events\, click here.
URL:https://maritime-professionals.com/event/maritime-innovation-platform-2023/
LOCATION:Energiehuis\, Noordendijk 148\, Dordrecht\, 3311 RR\, Netherlands
ATTACH;FMTTYPE=image/gif:https://maritime-professionals.com/wp-content/uploads/2023/03/Maritime-Platform-202303_register-now_300x250.gif
END:VEVENT
END:VCALENDAR