BEGIN:VCALENDAR
VERSION:2.0
PRODID:-//Maritime Professionals - ECPv6.15.20//NONSGML v1.0//EN
CALSCALE:GREGORIAN
METHOD:PUBLISH
X-ORIGINAL-URL:https://maritime-professionals.com
X-WR-CALDESC:Events for Maritime Professionals
REFRESH-INTERVAL;VALUE=DURATION:PT1H
X-Robots-Tag:noindex
X-PUBLISHED-TTL:PT1H
BEGIN:VTIMEZONE
TZID:UTC
BEGIN:STANDARD
TZOFFSETFROM:+0000
TZOFFSETTO:+0000
TZNAME:UTC
DTSTART:20250101T000000
END:STANDARD
END:VTIMEZONE
BEGIN:VEVENT
DTSTART;TZID=UTC:20261013T090000
DTEND;TZID=UTC:20261014T170000
DTSTAMP:20260419T181642
CREATED:20260310T101147Z
LAST-MODIFIED:20260310T101147Z
UID:10000276-1791882000-1791997200@maritime-professionals.com
SUMMARY:Greek Maritime Forum
DESCRIPTION:The Greek Maritime Forum is a two-day\, senior-level gathering that brings together key decision-makers from across the maritime ecosystem. Participants span a wide range of sectors\, including shipowners\, ship managers\, shipbuilders\, shipyards\, ports\, service and technology providers\, as well as regulators\, government authorities\, industry associations\, classification societies\, and other influential stakeholders. \nDesigned for maximum impact\, the event combines a high-level conference with a dedicated exhibition space. This structure enables attendees to gain insight into the latest industry developments and emerging trends\, while also creating valuable opportunities to connect directly with leading decision-makers. \nOrganized by the renowned maritime networking specialist IGGS Group\, the much-anticipated Greek Maritime Forum stands out as a must-attend event for anyone active in maritime business within Greece and the wider international market.
URL:https://maritime-professionals.com/event/greek-maritime-forum/
LOCATION:Athens\, Athens\, Greece
ATTACH;FMTTYPE=image/jpeg:https://maritime-professionals.com/wp-content/uploads/2026/03/300x250-2-1.jpg
ORGANIZER;CN="IGGS Group":MAILTO:info@iggs-group.com
END:VEVENT
END:VCALENDAR