BEGIN:VCALENDAR
VERSION:2.0
PRODID:-//Maritime Professionals - ECPv6.15.20//NONSGML v1.0//EN
CALSCALE:GREGORIAN
METHOD:PUBLISH
X-ORIGINAL-URL:https://maritime-professionals.com
X-WR-CALDESC:Events for Maritime Professionals
REFRESH-INTERVAL;VALUE=DURATION:PT1H
X-Robots-Tag:noindex
X-PUBLISHED-TTL:PT1H
BEGIN:VTIMEZONE
TZID:UTC
BEGIN:STANDARD
TZOFFSETFROM:+0000
TZOFFSETTO:+0000
TZNAME:UTC
DTSTART:20250101T000000
END:STANDARD
END:VTIMEZONE
BEGIN:VEVENT
DTSTART;TZID=UTC:20260421T090000
DTEND;TZID=UTC:20260422T165000
DTSTAMP:20260425T102232
CREATED:20260309T131652Z
LAST-MODIFIED:20260309T140539Z
UID:10000275-1776762000-1776876600@maritime-professionals.com
SUMMARY:Hamburg Maritime Forum
DESCRIPTION:Hamburg will host one of the most significant maritime gatherings in Europe with the Hamburg Maritime Forum\, taking place as a physical event on April 21 – 22\, 2026. This two-day\, high-level forum will bring together key decision-makers and industry experts from across the global maritime value chain. \nThe event will gather representatives from shipowners\, ship managers and operators\, shipbuilders and shipyards\, ports\, service providers\, manufacturers\, and technology companies\, alongside regulators\, government bodies\, industry associations\, and classification societies. \nDesigned in a highly effective format\, the Hamburg Maritime Forum will feature both a conference and an exhibition area. This structure ensures participants gain valuable insights into the latest industry developments and trends\, while also providing excellent opportunities to connect with senior decision-makers and influential stakeholders.
URL:https://maritime-professionals.com/event/hamburg-maritime-forum-2/
LOCATION:Fischauktionshalle\, Große Elbstraße 9\, Hamburg\, 22767\, Germany
ATTACH;FMTTYPE=image/jpeg:https://maritime-professionals.com/wp-content/uploads/2026/03/300x250.jpg
ORGANIZER;CN="IGGS Group":MAILTO:info@iggs-group.com
END:VEVENT
BEGIN:VEVENT
DTSTART;TZID=UTC:20260423T080000
DTEND;TZID=UTC:20260423T180000
DTSTAMP:20260425T102232
CREATED:20260128T093449Z
LAST-MODIFIED:20260310T135708Z
UID:10000273-1776931200-1776967200@maritime-professionals.com
SUMMARY:5th Ship Voyage Optimisation Summit
DESCRIPTION:Celebrating its 5th anniversary\, the Ship Voyage Optimisation Summit returns with a strengthened focus on the technologies\, strategies\, and innovations shaping the future of ecient and sustainable sailing. As the maritime sector leans toward digitalisation and decarbonization\, voyage optimisation has become a cornerstone for achieving fuel savings\, regulatory compliance\, and safer navigation. \nThis year’s edition brings together the maritime shipping community to explore the latest advancements in AI-powered voyage optimisation\, real-time decision support\, alternative fuels\, and regulatory frameworks. With increasing environmental pressures and rising fuel and carbon costs\, the 2026 programme provides practical solutions\, real case studies\, and forward-looking insights to support the global fleet on its path to smarter and cleaner voyages.
URL:https://maritime-professionals.com/event/5th-ship-voyage-optimisation-summit/
LOCATION:Hamburg Marriott Hotel\, ABC-Straße 52\, Hamburg\, 20354\, Germany
ATTACH;FMTTYPE=image/jpeg:https://maritime-professionals.com/wp-content/uploads/2026/01/Marpro-300x250-1.jpg
END:VEVENT
END:VCALENDAR