BEGIN:VCALENDAR
VERSION:2.0
PRODID:-//Maritime Professionals - ECPv6.15.20//NONSGML v1.0//EN
CALSCALE:GREGORIAN
METHOD:PUBLISH
X-ORIGINAL-URL:https://maritime-professionals.com
X-WR-CALDESC:Events for Maritime Professionals
REFRESH-INTERVAL;VALUE=DURATION:PT1H
X-Robots-Tag:noindex
X-PUBLISHED-TTL:PT1H
BEGIN:VTIMEZONE
TZID:UTC
BEGIN:STANDARD
TZOFFSETFROM:+0000
TZOFFSETTO:+0000
TZNAME:UTC
DTSTART:20230101T000000
END:STANDARD
END:VTIMEZONE
BEGIN:VEVENT
DTSTART;TZID=UTC:20240618T080000
DTEND;TZID=UTC:20240619T170000
DTSTAMP:20260425T102243
CREATED:20240212T141340Z
LAST-MODIFIED:20240212T141536Z
UID:10000219-1718697600-1718816400@maritime-professionals.com
SUMMARY:Nordic Maritime Forum
DESCRIPTION:  \nAbout Nordic Maritime Forum \nNordic Maritime Forum will bring the maritime industry together to discuss the current situation in the industry\, identify the best practices and evaluate the necessary technologies in order to be competitive and move forward! \nTwo Effective Days Of Finding New Suppliers\, Meeting New Contacts\, Starting New Partnerships \nTwo day international maritime event that will bring together various types of leaders and experts across the value chain. Two days of dynamic presentation and intense panel discussions willl allow the participants to share their knowledge\, good practices and to introduce new strategies \nDedicated team behind the project \n\nNordic Maritime Forum is organized by IGGS Group. Our overall priority is to provide our clients with the most effective networking platform in the world. Based on references we are moving faster than expected.\nWe base our work on honesty\, integrity and true dedication to the maritime industry.\nWe believe that maritime industry needs to work together to ensure sustainable future.\nWe take great pride that our services facilitate this mutual goal. \n\nRegister here: https://nordicmaritimeforum.com/ \nFor more maritime events\, click here. \n\n 
URL:https://maritime-professionals.com/event/nordic-maritime-forum/
LOCATION:The Grand Hotel Oslo\, Karl Johans gate 31\, Oslo\, Oslo\, 0159\, Norway
ATTACH;FMTTYPE=image/jpeg:https://maritime-professionals.com/wp-content/uploads/2024/02/300x250-2.jpg
ORGANIZER;CN="IGGS Group":MAILTO:info@iggs-group.com
END:VEVENT
END:VCALENDAR