BEGIN:VCALENDAR
VERSION:2.0
PRODID:-//Maritime Professionals - ECPv6.15.20//NONSGML v1.0//EN
CALSCALE:GREGORIAN
METHOD:PUBLISH
X-WR-CALNAME:Maritime Professionals
X-ORIGINAL-URL:https://maritime-professionals.com
X-WR-CALDESC:Events for Maritime Professionals
REFRESH-INTERVAL;VALUE=DURATION:PT1H
X-Robots-Tag:noindex
X-PUBLISHED-TTL:PT1H
BEGIN:VTIMEZONE
TZID:UTC
BEGIN:STANDARD
TZOFFSETFROM:+0000
TZOFFSETTO:+0000
TZNAME:UTC
DTSTART:20230101T000000
END:STANDARD
END:VTIMEZONE
BEGIN:VEVENT
DTSTART;TZID=UTC:20240611T093000
DTEND;TZID=UTC:20240613T173000
DTSTAMP:20260425T102041
CREATED:20240108T145530Z
LAST-MODIFIED:20240205T143125Z
UID:10000214-1718098200-1718299800@maritime-professionals.com
SUMMARY:SEAWORK Marine Civils
DESCRIPTION:  \nSeawork is the key meeting place for the commercial marine industry. Visitors can enjoy the latest events\, launches\, announcements\, demonstrations\, drinks receptions\, Association meetings and competitions. \nSeawork celebrates its 25th anniversary in 2024! Over twenty years on\, Seawork still provides one of the key international platforms for commercial marine businesses to connect with their customers and discuss innovations and solutions within their respective industries. \nMarine Civils is co-located with Seawork\, Europe’s largest commercial marine exhibition. Marine Civils has its own brand and identity\, situated in its own dedicated area in the exhibition halls\, and will run concurrently with the three days of Seawork. \nWith a big overlap in content and business for companies involved in marine construction\, Marine Civils is uniquely positioned to provide an invaluable opportunity to explore these sectors alongside Seawork attendees. \nMarine Civils exhibitors stand to benefit from the event co-location\, as it offers more opportunities and allows for access to wider relevant audiences via Seawork and its sister magazine Maritime Journal. \nSeawork itself attracts over 7\,200 visitors each year with exhibitors and visitors attending from over 60 countries. \nVESSELS AFLOAT \nThe purpose-built pontoons\, situated right outside the exhibition halls\, host over 70 vessels and a floating plant\, in a real operational environment in one of Europe’s busiest ports. \nVessels at Seawork have immediate access to Southampton Water. With no tidal constraints\, approved vessel and floating plant demonstrations are permitted at all times during the exhibition opening hours. \nPAVILIONS & TRAILS \nDedicated pavilions and trails will make visiting Seawork much easier\, as they quickly help to identify exhibitors\, conferences and seminars of particular interest. \nTrails are highlighted with logos printed on exhibitors’ fascia boards. These exhibitors will also be listed in the printed catalogue\, available to collect when you arrive. \n2024 DATES\nTuesday 11 June          0930 – 1730\nWednesday 12 June     0930 – 1730\nThursday 13 June         0930 – 1600 \n\nFor more information: https://seawork.com/ \nFor more events\, click here.
URL:https://maritime-professionals.com/event/seawork-marine-civils/
LOCATION:Mayflower Park\, Town Quay\, SO14 2AN\, Southampton\, SO14 2AQ\, United Kingdom
ATTACH;FMTTYPE=image/jpeg:https://maritime-professionals.com/wp-content/uploads/2024/01/SWK-Promo-MPUs-2024.jpg
ORGANIZER;CN="Mercator Media Ltd":MAILTO:info@seawork.com
END:VEVENT
END:VCALENDAR