BEGIN:VCALENDAR
VERSION:2.0
PRODID:-//Maritime Professionals - ECPv6.15.20//NONSGML v1.0//EN
CALSCALE:GREGORIAN
METHOD:PUBLISH
X-ORIGINAL-URL:https://maritime-professionals.com
X-WR-CALDESC:Events for Maritime Professionals
REFRESH-INTERVAL;VALUE=DURATION:PT1H
X-Robots-Tag:noindex
X-PUBLISHED-TTL:PT1H
BEGIN:VTIMEZONE
TZID:UTC
BEGIN:STANDARD
TZOFFSETFROM:+0000
TZOFFSETTO:+0000
TZNAME:UTC
DTSTART:20230101T000000
END:STANDARD
END:VTIMEZONE
BEGIN:VEVENT
DTSTART;TZID=UTC:20240603T080000
DTEND;TZID=UTC:20240607T170000
DTSTAMP:20260425T102541
CREATED:20240214T151956Z
LAST-MODIFIED:20240227T173446Z
UID:10000220-1717401600-1717779600@maritime-professionals.com
SUMMARY:Posidonia 2024
DESCRIPTION:  \nPosidonia Exhibitions SA is a leading organiser of trade fairs in Greece\, and operates through its headquarters located in Piraeus\, Greece. \nPosidonia\, the international shipping exhibition\, has long been established as one of the major calendar events of the shipping industry. Posidonia 2022 attracted the most influential personalities from the Greek and international shipping community and major companies and organisations active in all sectors of the shipping industry. The international exhibition Posidonia first took place in 1969 and has been taking place every two years ever since. \nPosidonia 2022 was the largest in terms of exhibition space and the most publicised event in the exhibition’s history and has become the largest trade show in Greece. Posidonia 2022 welcomed 1\,964 exhibiting companies from 88 countries & territories and was attended by 28\,892 visitors from 103 countries. In total\, the exhibition was attended by 40\,950 participants\, including exhibitors\, visitors and media representatives. The exhibition had 24 national pavilions from the following countries and territories: Austria\, Bahamas\, Belize\, Brazil\, Cayman Islands\, China\, Cyprus\, Denmark\, Georgia\, Japan\, Republic of Korea\, Lebanon\, Liberia\, Malta\, The Netherlands\, Norway\, Panama\, Republic of Poland\, Romania\, Singapore\, Sri Lanka\, Turkey\, United Kingdom\, and the USA. \nPosidonia not only serves as a bridge linking the international shipping industry with the Greek shipowners\, who operate the largest fleet globally of over 4\,000 vessels\, the largest under the control of any national group\, but also serves as the platform that brings international shipowners in touch with the latest developments in the shipping industry and offers them direct access to the entire range of shipping products and services available on the international shipping market. \nPosidonia makes an essential contribution to the Greek economy every two years\, with its thousands of visitors and exhibitors boosting the tourist industry and related sectors\, as more than 10\,000 people visit our country for the exhibition. Specifically\, it is estimated that some €70 million are generated throughout Posidonia week by exhibitor and visitor spending on hotels\, restaurants\, business meetings\, hospitality events\, stand constructions\, transportation\, customs clearance and movement of exhibits\, etc. Moreover\, such a high-quality event taking place in Athens promotes Greece and the city itself as an ideal destination for major international trade events\, contributing to the future development of the MICE sector in the region and also projecting a positive image of Greece to the world. \nhttps://posidonia-events.com/ \n  \n 
URL:https://maritime-professionals.com/event/posidonia-2024/
LOCATION:Athens Metropolitan Expo\, Athens International Airport "El. Venizelos\, Attica\, 19019\, Greece
ATTACH;FMTTYPE=image/jpeg:https://maritime-professionals.com/wp-content/uploads/2024/02/POS24_300x250.jpg
END:VEVENT
BEGIN:VEVENT
DTSTART;TZID=UTC:20240605T080000
DTEND;TZID=UTC:20240608T170000
DTSTAMP:20260425T102541
CREATED:20240326T130951Z
LAST-MODIFIED:20240326T130953Z
UID:10000226-1717574400-1717866000@maritime-professionals.com
SUMMARY:WIN EURASIA
DESCRIPTION:  \nINDUSTRIES MEET DIVERSITY \nWIN EURASIA – World of Industry Fair\, the largest international industrial fair of the region and its sector\, will open its doors at the Istanbul Expo Center between June 5-8\, 2024. \nHundreds of companies operating in the Energy\, Electrical\, Electronic Technologies\, Welding and Robotic Welding Technologies\, Logistics\, Supply Chain Management\, Internal Logistics Solutions\, Industrial Production Machinery\, Industrial Automation and Factory Automation Systems sectors will exhibit their latest products in a total of 55.000 m² exhibition area in 6 halls! \n  \nWhy You Should Visit? \n\nInnovation:Discover the latest developments in the industry\, witness the latest technologies shaping the future of the industry.\nGlobal Business Network:Connect with industry professionals\, experts and decision makers from around the world.\nThe Most Comprehensive Industry Exhibition:Covering the machinery\, welding\, automation\, logistics and energy sectors\, the fair offers a holistic 360-degree view of the manufacturing industry.\nInteractive Experience:Gain a deeper insight into product capabilities through the interactive nature of specialized experience areas.\nWitness the Future of the Industry:Access expert-led conferences\, seminars and presentations on industry trends and solutions.\n\nBecome a Visitor \n  \nWhy You Should Exhibit? \n\nShowcase Your Brand:Showcase your latest products and technological innovations to professionals from all over the world.\nJoin the Leaders:Position your brand as an industry leader with the latest solutions and technologies.\nInternational Business Opportunities:Connect with industry professionals\, potential partners and decision makers from around the world.\nReach Your Target Markets:Increase your market share with a wide range of buyers from different sectors.\nHosted Buyer Program:Make direct contact with key visitors from strategic regions\, open up new markets.\n\nBecome an Exhibitor \n 
URL:https://maritime-professionals.com/event/win-eurasia/
LOCATION:Istanbul Expo Center\, Yeşilköy\, Turkey
ATTACH;FMTTYPE=image/jpeg:https://maritime-professionals.com/wp-content/uploads/2024/03/WIN-EURASIA300x250-EG.jpg
END:VEVENT
END:VCALENDAR