BEGIN:VCALENDAR
VERSION:2.0
PRODID:-//Maritime Professionals - ECPv6.15.20//NONSGML v1.0//EN
CALSCALE:GREGORIAN
METHOD:PUBLISH
X-WR-CALNAME:Maritime Professionals
X-ORIGINAL-URL:https://maritime-professionals.com
X-WR-CALDESC:Events for Maritime Professionals
REFRESH-INTERVAL;VALUE=DURATION:PT1H
X-Robots-Tag:noindex
X-PUBLISHED-TTL:PT1H
BEGIN:VTIMEZONE
TZID:UTC
BEGIN:STANDARD
TZOFFSETFROM:+0000
TZOFFSETTO:+0000
TZNAME:UTC
DTSTART:20230101T000000
END:STANDARD
END:VTIMEZONE
BEGIN:VEVENT
DTSTART;TZID=UTC:20240507T070000
DTEND;TZID=UTC:20240507T090000
DTSTAMP:20260425T115624
CREATED:20240326T123146Z
LAST-MODIFIED:20240326T123148Z
UID:10000225-1715065200-1715072400@maritime-professionals.com
SUMMARY:BUSINESSrun OTC Houston
DESCRIPTION:  \nTogether with BUSINESSrun\, United Heavy Lift\, ITJ International Transport Journal and MARPRO we invite you to participate at the: \n59th BUSINESSrun during OTC in Houston. \nThis is an opportunity to join us for a morning exercise that combines running\, networking\, and giving back to the community under the motto ‘Running for a Cause\, Connecting for Success’. The run is open to everyone\, regardless of your running experience\, and offers a 5K and 10K route through the beautiful city of Houston. \nThis run will take place on Tuesday\, 7th of May 2024 at 7:30am – in Hermann Park\, 6001 Fannin St Houston \nWe ask that you arrive at 7:10 am to collect your running shirt made of Recycled Waste plastics and participate in some prenetworking\, followed by some warm-up exercises led by our professional running coach. \nThe first runners usually come back to the starting point around 8:15 am. After completing the run you’ll have ample opportunity to network with co-runners and partners while enjoying refreshments. \nThe participation fee is USD 50\,00 which is donated entirely to the charity organization\, Colorectal Cancer Alliance. \nYou can sign up at: https://businessrun.events/run/59-otc-houston/ \nWe hope you join us for this morning networking exercise and support a great cause. \n 
URL:https://maritime-professionals.com/event/businessrun-otc-houston/
LOCATION:Hermann Park\, 6001 Fannin St Houston\, Hermann Park\, Houston\, TX\, 6001\, United States
ATTACH;FMTTYPE=image/png:https://maritime-professionals.com/wp-content/uploads/2024/03/OTC-Graphic-300-x-250-px.png
END:VEVENT
BEGIN:VEVENT
DTSTART;TZID=UTC:20240508T080000
DTEND;TZID=UTC:20240509T170000
DTSTAMP:20260425T115624
CREATED:20240206T101050Z
LAST-MODIFIED:20240206T101202Z
UID:10000216-1715155200-1715274000@maritime-professionals.com
SUMMARY:Green Ports and Shipping Congress 2024
DESCRIPTION:  \nGreen Ports and Shipping Congress identifies and prioritises the areas that ports-based organisations and shipping companies need to work together on for their mutual advantage to reduce emissions. \nGreen Ports & Shipping Congress will take place from 8th-9th May 2024 in Singapore and will cover a range of topics addressing the aspects of energy transition plans and implementation as they affect port operations and ships. \nSessions and streams will focus on the required infrastructure\, alternative fuel options/bunkering\, the technical solutions and how these align with the shipping lines and logistics chains. It is a must-attend event for policy makers\, ports and terminal operators\, shipping companies\, shippers and logistics companies\, fuel & propulsion providers\, classification societies and associated decarbonisation clusters. \nCaring for the environment by reducing emissions is a priority for all our businesses. The ports and terminals communities are served by a number of organisations and events with this specific agenda\, so too are the shipping communities. But practically\, neither group can achieve their objectives without working together and with the direct co-operation of the other. \nThe conference promotes collaboration and debate on the challenges and opportunities affecting the industry\, whilst enabling conference delegates and participants to establish and build on relationships through the networking opportunities on offer. It is a place for industry professionals to meet and discuss all aspects of energy transition plans and implementation as they affect port operations and ships as well discuss the required infrastructure\, alternative fuel options/bunkering\, the technical solutions and how these align with the shipping lines and logistics chains. \nIt is a must attend event for those involved in Ports and Shipping including policy makers\, ports and terminal operators\, shipping companies\, shippers and logistics companies\, fuel & propulsion providers\, classification societies and associated decarbonisation clusters. \n \n  \nAttend Green Ports & Shipping Congress \n  \nFor more maritime related events\, please click here. \n 
URL:https://maritime-professionals.com/event/green-ports-and-shipping-congress-2024/
LOCATION:Marina Bay Sands\, 10 Bayfront Ave\, Singapore\, Singapore\, 018956\, Singapore
ATTACH;FMTTYPE=image/png:https://maritime-professionals.com/wp-content/uploads/2024/02/GPS-Book-Now-300x250-1.png
ORGANIZER;CN="Mercator Media Ltd":MAILTO:info@seawork.com
END:VEVENT
END:VCALENDAR