BEGIN:VCALENDAR
VERSION:2.0
PRODID:-//Maritime Professionals - ECPv6.15.20//NONSGML v1.0//EN
CALSCALE:GREGORIAN
METHOD:PUBLISH
X-ORIGINAL-URL:https://maritime-professionals.com
X-WR-CALDESC:Events for Maritime Professionals
REFRESH-INTERVAL;VALUE=DURATION:PT1H
X-Robots-Tag:noindex
X-PUBLISHED-TTL:PT1H
BEGIN:VTIMEZONE
TZID:UTC
BEGIN:STANDARD
TZOFFSETFROM:+0000
TZOFFSETTO:+0000
TZNAME:UTC
DTSTART:20230101T000000
END:STANDARD
END:VTIMEZONE
BEGIN:VEVENT
DTSTART;TZID=UTC:20240429T170000
DTEND;TZID=UTC:20240429T200000
DTSTAMP:20260425T103535
CREATED:20240322T120026Z
LAST-MODIFIED:20240322T120026Z
UID:10000224-1714410000-1714420800@maritime-professionals.com
SUMMARY:DSNAME - ShippingLab – setting sail on a new large collaboration project
DESCRIPTION:  \nShippingLab is initating a new large project focusing on developing technologies on advanced ship design\, biofouling\, remote navigation\, predictive maintenance and the well-being of seafarers. The leading partners in the project will present their activities\, and ShippingLab will talk about the different possibilities to be part of the many activities performed to develop and support Blue Denmark. \n  \nRegister for either the live or online option.\n  \nLearn about DSNAME here. \nFor more events\, click here.
URL:https://maritime-professionals.com/event/dsname-shippinglab-setting-sail-on-a-new-large-collaboration-project/
LOCATION:IDA\, Ingeniørforeningen\, 31 Kalvebod Brygge\, Copenhagen\, 1560\, Denmark
ATTACH;FMTTYPE=image/png:https://maritime-professionals.com/wp-content/uploads/2024/03/DSNAME-event-banner-2024-7.png
END:VEVENT
END:VCALENDAR