BEGIN:VCALENDAR
VERSION:2.0
PRODID:-//Maritime Professionals - ECPv6.15.20//NONSGML v1.0//EN
CALSCALE:GREGORIAN
METHOD:PUBLISH
X-ORIGINAL-URL:https://maritime-professionals.com
X-WR-CALDESC:Events for Maritime Professionals
REFRESH-INTERVAL;VALUE=DURATION:PT1H
X-Robots-Tag:noindex
X-PUBLISHED-TTL:PT1H
BEGIN:VTIMEZONE
TZID:UTC
BEGIN:STANDARD
TZOFFSETFROM:+0000
TZOFFSETTO:+0000
TZNAME:UTC
DTSTART:20230101T000000
END:STANDARD
END:VTIMEZONE
BEGIN:VEVENT
DTSTART;TZID=UTC:20240424T080000
DTEND;TZID=UTC:20240425T170000
DTSTAMP:20260425T125001
CREATED:20240131T122322Z
LAST-MODIFIED:20240131T122427Z
UID:10000151-1713945600-1714064400@maritime-professionals.com
SUMMARY:Coastlink Conference 2024
DESCRIPTION:The 2024 Coastlink Early Bird discount is available – secure your space today to join the Coastlink community in Amsterdam this April. \nThe 22nd Coastlink remains focussed on the vital role of short sea and feeder shipping and the intermodal transport networks that support the sector. Due to take place from 24 & 25 April and hosted by the Port of Amsterdam the 2024 Conference will welcome a number of expert speakers from Maersk\, Samskip\, Port of Bilbao and Royal HaskoningDHV providing insight on vital topics\, these include: the energy transition\, collaboration\, green corridors and shore power. \nDon’t miss out! Book your place today to attend Coastlink: \n  \nSAVE AND BOOK NOW \n  \nWhat’s included in the delegate package? \n\n2 days of conference including lunch & refreshments\nPlace on the boat Port Tour at the Port of Amsterdam\nElectronic documentation – Conference Handbook and Programme\nPlace at the Conference Gala Dinner (Premium package only)\nPost event download (Premium package only)\n\nSimply enter the code CLKEARLYPREM – for a premium delegate place – or\, CLKEARLY – for a standard delegate place – when booking online. \nFor further information on how to book your place at the 2024 event\, visit the Coastlink website or contact the Coastlink event team at +44 1329 825335. \nFor more maritime events\, click here.
URL:https://maritime-professionals.com/event/coastlink-conference-2024/
LOCATION:Port of Amsterdam\, Amsterdam\, Netherlands
ATTACH;FMTTYPE=image/png:https://maritime-professionals.com/wp-content/uploads/2024/01/CLK-Book-Now-300x250-1.png
ORGANIZER;CN="Mercator Media Ltd":MAILTO:info@seawork.com
END:VEVENT
BEGIN:VEVENT
DTSTART;TZID=UTC:20240424T080000
DTEND;TZID=UTC:20240425T170000
DTSTAMP:20260425T125001
CREATED:20240207T094752Z
LAST-MODIFIED:20240207T094752Z
UID:10000217-1713945600-1714064400@maritime-professionals.com
SUMMARY:3rd Ship Navigation and Voyage Optimization
DESCRIPTION:  \nWe are delighted to invite you to the vibrant maritime hub of Hamburg for 2024’s conference\, where we will continue the tradition of fostering innovation and excellence in ship navigation and voyage optimization. \nBuilding on the success of our previous editions in Athens\, we are excited to bring together experts\, industry leaders\, and enthusiasts from around the world to explore the latest advancements and best practices in this vital field. \nHamburg\, with its rich maritime history and strategic location\, serves as the perfect backdrop for our discussions on the future of navigation\, safety at sea\, sustainability\, and the application of cutting-edge technology. Our agenda is packed with insightful presentations\, engaging panel discussions\, and interactive workshops that will provide valuable insights\, foster collaboration\, and inspire new solutions. For more information: www.ship-navigation.com \n  \n \n  \nFor more maritime events\, click here.
URL:https://maritime-professionals.com/event/3rd-ship-navigation-and-voyage-optimization/
LOCATION:Hamburg Marriott Hotel\, ABC-Straße 52\, Hamburg\, 20354\, Germany
ATTACH;FMTTYPE=image/jpeg:https://maritime-professionals.com/wp-content/uploads/2024/02/300x250.jpg
END:VEVENT
END:VCALENDAR