BEGIN:VCALENDAR
VERSION:2.0
PRODID:-//Maritime Professionals - ECPv6.15.20//NONSGML v1.0//EN
CALSCALE:GREGORIAN
METHOD:PUBLISH
X-WR-CALNAME:Maritime Professionals
X-ORIGINAL-URL:https://maritime-professionals.com
X-WR-CALDESC:Events for Maritime Professionals
REFRESH-INTERVAL;VALUE=DURATION:PT1H
X-Robots-Tag:noindex
X-PUBLISHED-TTL:PT1H
BEGIN:VTIMEZONE
TZID:UTC
BEGIN:STANDARD
TZOFFSETFROM:+0000
TZOFFSETTO:+0000
TZNAME:UTC
DTSTART:20230101T000000
END:STANDARD
END:VTIMEZONE
BEGIN:VEVENT
DTSTART;TZID=UTC:20240416T080000
DTEND;TZID=UTC:20240417T170000
DTSTAMP:20260425T160619
CREATED:20240212T130506Z
LAST-MODIFIED:20240212T130506Z
UID:10000218-1713254400-1713373200@maritime-professionals.com
SUMMARY:Hamburg Maritime Forum
DESCRIPTION:  \nOne of the greatest maritime cities in the world – Hamburg – will be home to one of the most effective maritime gatherings globally – the Hamburg Maritime Forum. A physical event that will take place on April 16th – 17th | 2024. \nA two day high level event that will gather maritime industry decision makers and experts from various segments ranging from shipowners; ship managers; ship operators; shipbuilders; shipyards; ports; service providers; manufacturers and technology companies to regulators\, government bodies\, associations; classification societies and others. \n\n450 Attendees\n40 Exhibitors\n45 Speakers\n\nStructured in a highly effective way \, the event will have a conference and an exhibition area. This format will allow to learn the latest updates and trends in the industry as well as ensure the opportunity to meet relevant decision makers.\nOrganized by a well known maritime networking expert – IGGS Group – the Hamburg Maritime Forum is definitely an event not to be missed by anyone who is conducting maritime business in Hamburg and beyond. \nHamburg Maritime Forum is organized by IGGS Group. Our overall priority is to provide our clients with the most effective networking platform in the world. Based on references we are moving faster than expected.\nWe base our work on honesty\, integrity and true dedication to the maritime industry.\nWe believe that maritime industry needs to work together to ensure sustainable future.\nWe take great pride that our services facilitate this mutual goal. \nRegister here: www.hamburgmaritimeforum.com/ \nFor more maritime events\, click here.
URL:https://maritime-professionals.com/event/hamburg-maritime-forum/
LOCATION:Fischauktionshalle\, Große Elbstraße 9\, Hamburg\, 22767\, Germany
ATTACH;FMTTYPE=image/jpeg:https://maritime-professionals.com/wp-content/uploads/2024/02/300x250-1.jpg
ORGANIZER;CN="IGGS Group":MAILTO:info@iggs-group.com
END:VEVENT
END:VCALENDAR