BEGIN:VCALENDAR
VERSION:2.0
PRODID:-//Maritime Professionals - ECPv6.15.20//NONSGML v1.0//EN
CALSCALE:GREGORIAN
METHOD:PUBLISH
X-ORIGINAL-URL:https://maritime-professionals.com
X-WR-CALDESC:Events for Maritime Professionals
REFRESH-INTERVAL;VALUE=DURATION:PT1H
X-Robots-Tag:noindex
X-PUBLISHED-TTL:PT1H
BEGIN:VTIMEZONE
TZID:UTC
BEGIN:STANDARD
TZOFFSETFROM:+0000
TZOFFSETTO:+0000
TZNAME:UTC
DTSTART:20250101T000000
END:STANDARD
END:VTIMEZONE
BEGIN:VEVENT
DTSTART;TZID=UTC:20260506T083000
DTEND;TZID=UTC:20260507T170000
DTSTAMP:20260425T124658
CREATED:20250814T124559Z
LAST-MODIFIED:20250814T124559Z
UID:10000261-1778056200-1778173200@maritime-professionals.com
SUMMARY:Coastlink Conference 2026
DESCRIPTION:Coastlink is a neutral pan-European network dedicated to the promotion of short sea and feeder shipping\, and the intermodal transport networks through the ports that support the sector. It is a place for industry professionals to meet and discuss future innovation\, economic and environmental considerations – and develop partnerships that will help build a sustainable future.
URL:https://maritime-professionals.com/event/coastlink-conference-2026/
LOCATION:The Humber United Kingdom\, United Kingdom
ATTACH;FMTTYPE=image/png:https://maritime-professionals.com/wp-content/uploads/2025/08/CLK-Secure-your-place-300-x-250-px.png
ORGANIZER;CN="Mercator Media Ltd":MAILTO:info@seawork.com
END:VEVENT
END:VCALENDAR