BEGIN:VCALENDAR
VERSION:2.0
PRODID:-//Maritime Professionals - ECPv6.15.20//NONSGML v1.0//EN
CALSCALE:GREGORIAN
METHOD:PUBLISH
X-WR-CALNAME:Maritime Professionals
X-ORIGINAL-URL:https://maritime-professionals.com
X-WR-CALDESC:Events for Maritime Professionals
REFRESH-INTERVAL;VALUE=DURATION:PT1H
X-Robots-Tag:noindex
X-PUBLISHED-TTL:PT1H
BEGIN:VTIMEZONE
TZID:UTC
BEGIN:STANDARD
TZOFFSETFROM:+0000
TZOFFSETTO:+0000
TZNAME:UTC
DTSTART:20230101T000000
END:STANDARD
END:VTIMEZONE
BEGIN:VEVENT
DTSTART;TZID=UTC:20240903T080000
DTEND;TZID=UTC:20240906T170000
DTSTAMP:20260425T101927
CREATED:20240214T153740Z
LAST-MODIFIED:20240214T153740Z
UID:10000221-1725350400-1725642000@maritime-professionals.com
SUMMARY:SMM 2024
DESCRIPTION:  \n\nSMM 2024 – The #1 for innovation and networking \n\n\n\n\n\n\n\nWelcome to the most important industry event of the year: As the world’s leading trade fair and conference event for the maritime industry\, SMM 2024 will bring together more than 40\,000 participants from over 120 countries and serve as a unique platform for business\, the exchange of ideas and cooperation. \nOn the exhibition floor\, about 2\,000 companies will present state of the art technologies and services. Focus areas such as Future Fuels and AI offer access to special topics with great significance for maritime transition\, and the high-profile conferences are set to take place on four stages with free admission for the first time. \nSeize the opportunity to make valuable contacts and discover why SMM is regarded as the networking hotspot for the maritime community – from the popular “Wine o’clock” to stand parties and the SMM Maritime Start-up Night\, there are plenty of opportunities to meet established players and exciting newcomers. \nWe look forward to welcoming you to the beautiful maritime metropolis of Hamburg! \nhttps://www.smm-hamburg.com/ \n\n\n\n\n\n\n 
URL:https://maritime-professionals.com/event/smm-2024/
LOCATION:Hamburg Messe und Congress GmbH\, Messeplatz 1\, Hamburg\, 20357\, Germany
ATTACH;FMTTYPE=image/png:https://maritime-professionals.com/wp-content/uploads/2024/02/SMM-2024-Hamburg.png
END:VEVENT
END:VCALENDAR