BEGIN:VCALENDAR
VERSION:2.0
PRODID:-//Maritime Professionals - ECPv6.15.20//NONSGML v1.0//EN
CALSCALE:GREGORIAN
METHOD:PUBLISH
X-WR-CALNAME:Maritime Professionals
X-ORIGINAL-URL:https://maritime-professionals.com
X-WR-CALDESC:Events for Maritime Professionals
REFRESH-INTERVAL;VALUE=DURATION:PT1H
X-Robots-Tag:noindex
X-PUBLISHED-TTL:PT1H
BEGIN:VTIMEZONE
TZID:UTC
BEGIN:STANDARD
TZOFFSETFROM:+0000
TZOFFSETTO:+0000
TZNAME:UTC
DTSTART:20230101T000000
END:STANDARD
END:VTIMEZONE
BEGIN:VEVENT
DTSTART;TZID=UTC:20240408T170000
DTEND;TZID=UTC:20240408T200000
DTSTAMP:20260425T113000
CREATED:20240130T161159Z
LAST-MODIFIED:20240130T161159Z
UID:10000150-1712595600-1712606400@maritime-professionals.com
SUMMARY:DSNAME - New building program of the Danish Defence
DESCRIPTION:  \nThe Danish Defence are to build new ships to protect Denmark’s interests in the coming years. At this event we are going to do a deep dive into the new build program of the Danish Defence\, how modern times require new measures and cutting edge engineering to keep up with today’s demands. We will ask the industry: How are these demands fulfilled and what brake-troughs are needed to succeed? \n  \n Register for either the live or online option.\n  \nLearn about DSNAME here. \nFor more events\, click here.
URL:https://maritime-professionals.com/event/dsname-new-building-program-of-the-danish-defence/
LOCATION:IDA\, Ingeniørforeningen\, 31 Kalvebod Brygge\, Copenhagen\, 1560\, Denmark
ATTACH;FMTTYPE=image/png:https://maritime-professionals.com/wp-content/uploads/2024/01/DSNAME-event-banner-2024-5.png
END:VEVENT
END:VCALENDAR